BEGIN:VCALENDAR
VERSION:2.0
PRODID:-//FACE - ECPv6.6.3//NONSGML v1.0//EN
CALSCALE:GREGORIAN
METHOD:PUBLISH
X-ORIGINAL-URL:https://face.cssdm.gouv.qc.ca
X-WR-CALDESC:évènements pour FACE
REFRESH-INTERVAL;VALUE=DURATION:PT1H
X-Robots-Tag:noindex
X-PUBLISHED-TTL:PT1H
BEGIN:VTIMEZONE
TZID:America/New_York
BEGIN:DAYLIGHT
TZOFFSETFROM:-0500
TZOFFSETTO:-0400
TZNAME:EDT
DTSTART:20240310T070000
END:DAYLIGHT
BEGIN:STANDARD
TZOFFSETFROM:-0400
TZOFFSETTO:-0500
TZNAME:EST
DTSTART:20241103T060000
END:STANDARD
BEGIN:DAYLIGHT
TZOFFSETFROM:-0500
TZOFFSETTO:-0400
TZNAME:EDT
DTSTART:20250309T070000
END:DAYLIGHT
BEGIN:STANDARD
TZOFFSETFROM:-0400
TZOFFSETTO:-0500
TZNAME:EST
DTSTART:20251102T060000
END:STANDARD
BEGIN:DAYLIGHT
TZOFFSETFROM:-0500
TZOFFSETTO:-0400
TZNAME:EDT
DTSTART:20260308T070000
END:DAYLIGHT
BEGIN:STANDARD
TZOFFSETFROM:-0400
TZOFFSETTO:-0500
TZNAME:EST
DTSTART:20261101T060000
END:STANDARD
END:VTIMEZONE
BEGIN:VEVENT
DTSTART;TZID=America/New_York:20260206T190000
DTEND;TZID=America/New_York:20260206T190000
DTSTAMP:20260419T121547
CREATED:20250923T150423Z
LAST-MODIFIED:20250923T151552Z
UID:6376-1770404400-1770404400@face.cssdm.gouv.qc.ca
SUMMARY:Concert Vocal Secondaire 3-4-5
DESCRIPTION:
URL:https://face.cssdm.gouv.qc.ca/evenement/concert-vocal-secondaire-3-4-5/
LOCATION:Église St-Jean-Baptiste\, 4237 Henri-Julien\, Montréal\, Québec\, H2W 1E5\, Canada
END:VEVENT
BEGIN:VEVENT
DTSTART;VALUE=DATE:20251217
DTEND;VALUE=DATE:20251218
DTSTAMP:20260419T121547
CREATED:20250923T140454Z
LAST-MODIFIED:20250923T140454Z
UID:6374-1765929600-1766015999@face.cssdm.gouv.qc.ca
SUMMARY:Concert Maternelle 1ere-2e-3e (Primaire)
DESCRIPTION:Heures à confirmer
URL:https://face.cssdm.gouv.qc.ca/evenement/concert-maternelle-1ere-2e-3e-primaire/
LOCATION:Auditorium\, 3449 University\, Montréal\, Québec\, H3A 2A8\, Canada
END:VEVENT
BEGIN:VEVENT
DTSTART;TZID=America/New_York:20251216T163000
DTEND;TZID=America/New_York:20251216T163000
DTSTAMP:20260419T121547
CREATED:20250923T135803Z
LAST-MODIFIED:20250923T135803Z
UID:6368-1765902600-1765902600@face.cssdm.gouv.qc.ca
SUMMARY:Concert Jazz Bands et Midi-Jazz
DESCRIPTION:
URL:https://face.cssdm.gouv.qc.ca/evenement/concert-jazz-bands-et-midi-jazz/
LOCATION:P-Scène
END:VEVENT
BEGIN:VEVENT
DTSTART;TZID=America/New_York:20251212T143000
DTEND;TZID=America/New_York:20251212T143000
DTSTAMP:20260419T121547
CREATED:20250923T140219Z
LAST-MODIFIED:20250923T140219Z
UID:6372-1765549800-1765549800@face.cssdm.gouv.qc.ca
SUMMARY:Concert vocal sec. 1-2
DESCRIPTION:
URL:https://face.cssdm.gouv.qc.ca/evenement/concert-vocal-sec-1-2-4/
LOCATION:Auditorium\, 3449 University\, Montréal\, Québec\, H3A 2A8\, Canada
END:VEVENT
BEGIN:VEVENT
DTSTART;VALUE=DATE:20251211
DTEND;VALUE=DATE:20251212
DTSTAMP:20260419T121547
CREATED:20250923T140030Z
LAST-MODIFIED:20250923T140030Z
UID:6370-1765411200-1765497599@face.cssdm.gouv.qc.ca
SUMMARY:Concert Vocal 4e-5e-6e (Primaire)
DESCRIPTION:Heures à confirmer
URL:https://face.cssdm.gouv.qc.ca/evenement/concert-vocal-4e-5e-6e-primaire/
LOCATION:Auditorium\, 3449 University\, Montréal\, Québec\, H3A 2A8\, Canada
END:VEVENT
BEGIN:VEVENT
DTSTART;TZID=America/New_York:20251205T190000
DTEND;TZID=America/New_York:20251205T190000
DTSTAMP:20260419T121547
CREATED:20250923T135322Z
LAST-MODIFIED:20250923T140736Z
UID:6366-1764961200-1764961200@face.cssdm.gouv.qc.ca
SUMMARY:Concert Harmonie Sec. 4-5
DESCRIPTION:
URL:https://face.cssdm.gouv.qc.ca/evenement/concert-harmonie-sec-4-5-6/
LOCATION:Auditorium\, 3449 University\, Montréal\, Québec\, H3A 2A8\, Canada
CATEGORIES:Culturel
END:VEVENT
BEGIN:VEVENT
DTSTART;TZID=America/New_York:20251204T190000
DTEND;TZID=America/New_York:20251204T190000
DTSTAMP:20260419T121547
CREATED:20250923T135126Z
LAST-MODIFIED:20250923T135126Z
UID:6364-1764874800-1764874800@face.cssdm.gouv.qc.ca
SUMMARY:Concert Harmonie Sec. 1-2-3
DESCRIPTION:
URL:https://face.cssdm.gouv.qc.ca/evenement/concert-harmonie-sec-1-2-3-5/
LOCATION:Auditorium\, 3449 University\, Montréal\, Québec\, H3A 2A8\, Canada
END:VEVENT
BEGIN:VEVENT
DTSTART;TZID=America/New_York:20251128T170000
DTEND;TZID=America/New_York:20251128T203000
DTSTAMP:20260419T121547
CREATED:20250923T134511Z
LAST-MODIFIED:20250923T134511Z
UID:6360-1764349200-1764361800@face.cssdm.gouv.qc.ca
SUMMARY:Concert Orchestre Senior + OSF
DESCRIPTION:Concert de l’Orchestre Senior – 17h00 \nConcert de l’OSF – 19h00
URL:https://face.cssdm.gouv.qc.ca/evenement/concert-orchestre-senior-osf/
LOCATION:Auditorium\, 3449 University\, Montréal\, Québec\, H3A 2A8\, Canada
END:VEVENT
BEGIN:VEVENT
DTSTART;TZID=America/New_York:20251118T170000
DTEND;TZID=America/New_York:20251118T180000
DTSTAMP:20260419T121547
CREATED:20250923T134151Z
LAST-MODIFIED:20250923T134151Z
UID:6358-1763485200-1763488800@face.cssdm.gouv.qc.ca
SUMMARY:Concert Con Brio
DESCRIPTION:
URL:https://face.cssdm.gouv.qc.ca/evenement/concert-con-brio-3/
LOCATION:Auditorium\, 3449 University\, Montréal\, Québec\, H3A 2A8\, Canada
END:VEVENT
BEGIN:VEVENT
DTSTART;TZID=America/New_York:20251107T193000
DTEND;TZID=America/New_York:20251107T193000
DTSTAMP:20260419T121547
CREATED:20250923T133857Z
LAST-MODIFIED:20250923T133857Z
UID:6356-1762543800-1762543800@face.cssdm.gouv.qc.ca
SUMMARY:Parade de mode - Fashion Show
DESCRIPTION:
URL:https://face.cssdm.gouv.qc.ca/evenement/parade-de-mode-fashion-show-2/
LOCATION:Québec
END:VEVENT
BEGIN:VEVENT
DTSTART;TZID=America/New_York:20251107T160000
DTEND;TZID=America/New_York:20251107T173000
DTSTAMP:20260419T121547
CREATED:20250923T133742Z
LAST-MODIFIED:20250923T133742Z
UID:6354-1762531200-1762536600@face.cssdm.gouv.qc.ca
SUMMARY:Parade de mode - Fashion Show
DESCRIPTION:
URL:https://face.cssdm.gouv.qc.ca/evenement/parade-de-mode-fashion-show/
LOCATION:Auditorium\, 3449 University\, Montréal\, Québec\, H3A 2A8\, Canada
END:VEVENT
BEGIN:VEVENT
DTSTART;TZID=America/New_York:20250619T131500
DTEND;TZID=America/New_York:20250619T141500
DTSTAMP:20260419T121547
CREATED:20241001T152704Z
LAST-MODIFIED:20241001T152704Z
UID:5767-1750338900-1750342500@face.cssdm.gouv.qc.ca
SUMMARY:Concert 2eme et 3eme année
DESCRIPTION:
URL:https://face.cssdm.gouv.qc.ca/evenement/concert-2eme-et-3eme-annee/
LOCATION:Auditorium\, 3449 University\, Montréal\, Québec\, H3A 2A8\, Canada
END:VEVENT
BEGIN:VEVENT
DTSTART;TZID=America/New_York:20250619T093000
DTEND;TZID=America/New_York:20250619T101500
DTSTAMP:20260419T121547
CREATED:20241001T152547Z
LAST-MODIFIED:20241001T152547Z
UID:5765-1750325400-1750328100@face.cssdm.gouv.qc.ca
SUMMARY:Concert 1ere année
DESCRIPTION:
URL:https://face.cssdm.gouv.qc.ca/evenement/concert-1ere-annee-2/
LOCATION:Auditorium\, 3449 University\, Montréal\, Québec\, H3A 2A8\, Canada
END:VEVENT
BEGIN:VEVENT
DTSTART;TZID=America/New_York:20250618T124500
DTEND;TZID=America/New_York:20250618T133000
DTSTAMP:20260419T121547
CREATED:20241001T152459Z
LAST-MODIFIED:20241001T152459Z
UID:5763-1750250700-1750253400@face.cssdm.gouv.qc.ca
SUMMARY:Concert EMSB
DESCRIPTION:
URL:https://face.cssdm.gouv.qc.ca/evenement/concert-emsb-2/
LOCATION:Auditorium\, 3449 University\, Montréal\, Québec\, H3A 2A8\, Canada
END:VEVENT
BEGIN:VEVENT
DTSTART;TZID=America/New_York:20250618T091500
DTEND;TZID=America/New_York:20250618T100000
DTSTAMP:20260419T121547
CREATED:20241001T152406Z
LAST-MODIFIED:20241001T152406Z
UID:5761-1750238100-1750240800@face.cssdm.gouv.qc.ca
SUMMARY:Concert Maternelle
DESCRIPTION:
URL:https://face.cssdm.gouv.qc.ca/evenement/concert-maternelle-2/
LOCATION:Auditorium\, 3449 University\, Montréal\, Québec\, H3A 2A8\, Canada
END:VEVENT
BEGIN:VEVENT
DTSTART;TZID=America/New_York:20250530T190000
DTEND;TZID=America/New_York:20250530T220000
DTSTAMP:20260419T121547
CREATED:20241001T152300Z
LAST-MODIFIED:20241001T152300Z
UID:5759-1748631600-1748642400@face.cssdm.gouv.qc.ca
SUMMARY:Concert Vocal sec. 4-5
DESCRIPTION:
URL:https://face.cssdm.gouv.qc.ca/evenement/concert-vocal-sec-4-5-2/
LOCATION:Auditorium\, 3449 University\, Montréal\, Québec\, H3A 2A8\, Canada
END:VEVENT
BEGIN:VEVENT
DTSTART;TZID=America/New_York:20250529T190000
DTEND;TZID=America/New_York:20250529T220000
DTSTAMP:20260419T121547
CREATED:20241001T152219Z
LAST-MODIFIED:20241001T152219Z
UID:5757-1748545200-1748556000@face.cssdm.gouv.qc.ca
SUMMARY:Concert Vocal sec. 1-2-3
DESCRIPTION:
URL:https://face.cssdm.gouv.qc.ca/evenement/concert-vocal-sec-1-2-3-2/
LOCATION:Auditorium\, 3449 University\, Montréal\, Québec\, H3A 2A8\, Canada
END:VEVENT
BEGIN:VEVENT
DTSTART;TZID=America/New_York:20250529T131500
DTEND;TZID=America/New_York:20250529T150000
DTSTAMP:20260419T121547
CREATED:20241001T152101Z
LAST-MODIFIED:20241001T152101Z
UID:5755-1748524500-1748530800@face.cssdm.gouv.qc.ca
SUMMARY:Concert Vocal prim. 4-5-6
DESCRIPTION:
URL:https://face.cssdm.gouv.qc.ca/evenement/concert-vocal-prim-4-5-6-2/
LOCATION:Auditorium\, 3449 University\, Montréal\, Québec\, H3A 2A8\, Canada
END:VEVENT
BEGIN:VEVENT
DTSTART;TZID=America/New_York:20250523T170000
DTEND;TZID=America/New_York:20250523T183000
DTSTAMP:20260419T121547
CREATED:20241001T152011Z
LAST-MODIFIED:20241001T152011Z
UID:5753-1748019600-1748025000@face.cssdm.gouv.qc.ca
SUMMARY:Concert Con Brio
DESCRIPTION:
URL:https://face.cssdm.gouv.qc.ca/evenement/concert-con-brio-2/
LOCATION:Auditorium\, 3449 University\, Montréal\, Québec\, H3A 2A8\, Canada
END:VEVENT
BEGIN:VEVENT
DTSTART;TZID=America/New_York:20250515T190000
DTEND;TZID=America/New_York:20250515T210000
DTSTAMP:20260419T121547
CREATED:20241001T151920Z
LAST-MODIFIED:20241001T151920Z
UID:5751-1747335600-1747342800@face.cssdm.gouv.qc.ca
SUMMARY:Concert Harmonie sec. 4-5
DESCRIPTION:
URL:https://face.cssdm.gouv.qc.ca/evenement/concert-harmonie-sec-4-5-5/
LOCATION:Auditorium\, 3449 University\, Montréal\, Québec\, H3A 2A8\, Canada
END:VEVENT
BEGIN:VEVENT
DTSTART;TZID=America/New_York:20250515T140000
DTEND;TZID=America/New_York:20250515T150000
DTSTAMP:20260419T121547
CREATED:20241001T151825Z
LAST-MODIFIED:20241001T151825Z
UID:5749-1747317600-1747321200@face.cssdm.gouv.qc.ca
SUMMARY:Concert prim. 5-6
DESCRIPTION:
URL:https://face.cssdm.gouv.qc.ca/evenement/concert-prim-5-6/
LOCATION:Auditorium\, 3449 University\, Montréal\, Québec\, H3A 2A8\, Canada
END:VEVENT
BEGIN:VEVENT
DTSTART;TZID=America/New_York:20250514T190000
DTEND;TZID=America/New_York:20250514T210000
DTSTAMP:20260419T121547
CREATED:20241001T151748Z
LAST-MODIFIED:20241001T151748Z
UID:5747-1747249200-1747256400@face.cssdm.gouv.qc.ca
SUMMARY:Concert Harmonie sec. 1-2-3
DESCRIPTION:
URL:https://face.cssdm.gouv.qc.ca/evenement/concert-harmonie-sec-1-2-3-4/
LOCATION:Auditorium\, 3449 University\, Montréal\, Québec\, H3A 2A8\, Canada
END:VEVENT
BEGIN:VEVENT
DTSTART;TZID=America/New_York:20250507T163000
DTEND;TZID=America/New_York:20250507T180000
DTSTAMP:20260419T121547
CREATED:20241001T151700Z
LAST-MODIFIED:20241001T151700Z
UID:5745-1746635400-1746640800@face.cssdm.gouv.qc.ca
SUMMARY:Concert Jazz band et Midi-Jazz
DESCRIPTION:
URL:https://face.cssdm.gouv.qc.ca/evenement/concert-jazz-band-et-midi-jazz-2/
LOCATION:P-Scène
END:VEVENT
BEGIN:VEVENT
DTSTART;TZID=America/New_York:20250501T170000
DTEND;TZID=America/New_York:20250501T200000
DTSTAMP:20260419T121547
CREATED:20241001T151618Z
LAST-MODIFIED:20241001T151618Z
UID:5743-1746118800-1746129600@face.cssdm.gouv.qc.ca
SUMMARY:Concert OSF et Orchestres cordes
DESCRIPTION:
URL:https://face.cssdm.gouv.qc.ca/evenement/concert-osf-et-orchestres-cordes/
LOCATION:Auditorium\, 3449 University\, Montréal\, Québec\, H3A 2A8\, Canada
END:VEVENT
BEGIN:VEVENT
DTSTART;TZID=America/New_York:20250206T190000
DTEND;TZID=America/New_York:20250206T220000
DTSTAMP:20260419T121547
CREATED:20241001T151442Z
LAST-MODIFIED:20241001T151442Z
UID:5741-1738868400-1738879200@face.cssdm.gouv.qc.ca
SUMMARY:Concert Vocal sec. 3-4-5
DESCRIPTION:
URL:https://face.cssdm.gouv.qc.ca/evenement/concert-vocal-sec-3-4-5-2/
LOCATION:Auditorium\, 3449 University\, Montréal\, Québec\, H3A 2A8\, Canada
END:VEVENT
BEGIN:VEVENT
DTSTART;TZID=America/New_York:20241219T104500
DTEND;TZID=America/New_York:20241219T111500
DTSTAMP:20260419T121547
CREATED:20241001T151346Z
LAST-MODIFIED:20241001T151346Z
UID:5739-1734605100-1734606900@face.cssdm.gouv.qc.ca
SUMMARY:Concert 3ere année
DESCRIPTION:
URL:https://face.cssdm.gouv.qc.ca/evenement/concert-3ere-annee/
LOCATION:Auditorium\, 3449 University\, Montréal\, Québec\, H3A 2A8\, Canada
END:VEVENT
BEGIN:VEVENT
DTSTART;TZID=America/New_York:20241219T093000
DTEND;TZID=America/New_York:20241219T100000
DTSTAMP:20260419T121547
CREATED:20241001T151249Z
LAST-MODIFIED:20241001T151249Z
UID:5737-1734600600-1734602400@face.cssdm.gouv.qc.ca
SUMMARY:Concert 2ere année
DESCRIPTION:
URL:https://face.cssdm.gouv.qc.ca/evenement/concert-2ere-annee/
LOCATION:Auditorium\, 3449 University\, Montréal\, Québec\, H3A 2A8\, Canada
END:VEVENT
BEGIN:VEVENT
DTSTART;TZID=America/New_York:20241219T090000
DTEND;TZID=America/New_York:20241219T093000
DTSTAMP:20260419T121547
CREATED:20241001T151204Z
LAST-MODIFIED:20241001T151204Z
UID:5735-1734598800-1734600600@face.cssdm.gouv.qc.ca
SUMMARY:Concert 1ere année
DESCRIPTION:
URL:https://face.cssdm.gouv.qc.ca/evenement/concert-1ere-annee/
LOCATION:Auditorium\, 3449 University\, Montréal\, Québec\, H3A 2A8\, Canada
END:VEVENT
BEGIN:VEVENT
DTSTART;TZID=America/New_York:20241218T091500
DTEND;TZID=America/New_York:20241218T100000
DTSTAMP:20260419T121547
CREATED:20241001T151124Z
LAST-MODIFIED:20241001T151124Z
UID:5733-1734513300-1734516000@face.cssdm.gouv.qc.ca
SUMMARY:Concert Maternelle
DESCRIPTION:
URL:https://face.cssdm.gouv.qc.ca/evenement/concert-maternelle/
LOCATION:Auditorium\, 3449 University\, Montréal\, Québec\, H3A 2A8\, Canada
END:VEVENT
BEGIN:VEVENT
DTSTART;TZID=America/New_York:20241217T163000
DTEND;TZID=America/New_York:20241217T180000
DTSTAMP:20260419T121547
CREATED:20241001T151028Z
LAST-MODIFIED:20241001T151028Z
UID:5731-1734453000-1734458400@face.cssdm.gouv.qc.ca
SUMMARY:Concert Jazz band et Midi-Jazz
DESCRIPTION:
URL:https://face.cssdm.gouv.qc.ca/evenement/concert-jazz-band-et-midi-jazz/
LOCATION:P-Scène
END:VEVENT
END:VCALENDAR