BEGIN:VCALENDAR
VERSION:2.0
PRODID:-//FACE - ECPv6.6.3//NONSGML v1.0//EN
CALSCALE:GREGORIAN
METHOD:PUBLISH
X-WR-CALNAME:FACE
X-ORIGINAL-URL:https://face.cssdm.gouv.qc.ca
X-WR-CALDESC:évènements pour FACE
REFRESH-INTERVAL;VALUE=DURATION:PT1H
X-Robots-Tag:noindex
X-PUBLISHED-TTL:PT1H
BEGIN:VTIMEZONE
TZID:America/New_York
BEGIN:DAYLIGHT
TZOFFSETFROM:-0500
TZOFFSETTO:-0400
TZNAME:EDT
DTSTART:20240310T070000
END:DAYLIGHT
BEGIN:STANDARD
TZOFFSETFROM:-0400
TZOFFSETTO:-0500
TZNAME:EST
DTSTART:20241103T060000
END:STANDARD
END:VTIMEZONE
BEGIN:VEVENT
DTSTART;TZID=America/New_York:20241205T190000
DTEND;TZID=America/New_York:20241205T210000
DTSTAMP:20260419T093517
CREATED:20241001T150700Z
LAST-MODIFIED:20241001T150700Z
UID:5723-1733425200-1733432400@face.cssdm.gouv.qc.ca
SUMMARY:Concert Harmonie sec. 1-2-3
DESCRIPTION:
URL:https://face.cssdm.gouv.qc.ca/evenement/concert-harmonie-sec-1-2-3-3/
LOCATION:Auditorium\, 3449 University\, Montréal\, Québec\, H3A 2A8\, Canada
END:VEVENT
END:VCALENDAR